BEGIN:VCALENDAR
VERSION:2.0
PRODID:-//Effingham County GA - ECPv6.15.20//NONSGML v1.0//EN
CALSCALE:GREGORIAN
METHOD:PUBLISH
X-ORIGINAL-URL:https://effinghamcountyga.com
X-WR-CALDESC:Events for Effingham County GA
REFRESH-INTERVAL;VALUE=DURATION:PT1H
X-Robots-Tag:noindex
X-PUBLISHED-TTL:PT1H
BEGIN:VTIMEZONE
TZID:America/New_York
BEGIN:DAYLIGHT
TZOFFSETFROM:-0500
TZOFFSETTO:-0400
TZNAME:EDT
DTSTART:20220313T070000
END:DAYLIGHT
BEGIN:STANDARD
TZOFFSETFROM:-0400
TZOFFSETTO:-0500
TZNAME:EST
DTSTART:20221106T060000
END:STANDARD
BEGIN:DAYLIGHT
TZOFFSETFROM:-0500
TZOFFSETTO:-0400
TZNAME:EDT
DTSTART:20230312T070000
END:DAYLIGHT
BEGIN:STANDARD
TZOFFSETFROM:-0400
TZOFFSETTO:-0500
TZNAME:EST
DTSTART:20231105T060000
END:STANDARD
BEGIN:DAYLIGHT
TZOFFSETFROM:-0500
TZOFFSETTO:-0400
TZNAME:EDT
DTSTART:20240310T070000
END:DAYLIGHT
BEGIN:STANDARD
TZOFFSETFROM:-0400
TZOFFSETTO:-0500
TZNAME:EST
DTSTART:20241103T060000
END:STANDARD
END:VTIMEZONE
BEGIN:VEVENT
DTSTART;TZID=America/New_York:20230502T073000
DTEND;TZID=America/New_York:20230502T090000
DTSTAMP:20260425T135816
CREATED:20230428T120435Z
LAST-MODIFIED:20230428T120435Z
UID:453-1683012600-1683018000@effinghamcountyga.com
SUMMARY:Country Breakfast
DESCRIPTION:Don’t Miss State of the County Breakfast May 2\nThe chamber will hold a “State of the County Breakfast” on Tuesday\, May 2 at 7:30am in the Guyton Community Center\, 505 Magnolia Street in Guyton. Join us for a discussion about the challenges and opportunities that lie ahead for Effingham and its residents.\nOur thanks to Oglethorpe Power\, a Presenting Sponsor\, the Effingham County Industrial Development Authority\, a Supporting Sponsor\, and J Del Sur Marketing Group\, a Contributing Sponsor. Thanks also to the City of Guyton for hosting the event.\nFind Out More Here>>
URL:https://effinghamcountyga.com/event/country-breakfast/
LOCATION:Guyton Community Center\, 505 Magnolia Street\, Guyton\, GA\, 31312
CATEGORIES:Business Event
ATTACH;FMTTYPE=image/png:https://effinghamcountyga.com/wp-content/uploads/2023/04/stateofthecountyeffingahm.png
END:VEVENT
END:VCALENDAR